BEGIN:VCALENDAR
VERSION:2.0
PRODID:-//Shanty-Chor Wasserstadt Nordhorn e.V - ECPv6.3.5//NONSGML v1.0//EN
CALSCALE:GREGORIAN
METHOD:PUBLISH
X-WR-CALNAME:Shanty-Chor Wasserstadt Nordhorn e.V
X-ORIGINAL-URL:https://shanty-nordhorn.de
X-WR-CALDESC:Veranstaltungen für Shanty-Chor Wasserstadt Nordhorn e.V
REFRESH-INTERVAL;VALUE=DURATION:PT1H
X-Robots-Tag:noindex
X-PUBLISHED-TTL:PT1H
BEGIN:VTIMEZONE
TZID:Europe/Berlin
BEGIN:DAYLIGHT
TZOFFSETFROM:+0100
TZOFFSETTO:+0200
TZNAME:CEST
DTSTART:20260329T010000
END:DAYLIGHT
BEGIN:STANDARD
TZOFFSETFROM:+0200
TZOFFSETTO:+0100
TZNAME:CET
DTSTART:20261025T010000
END:STANDARD
END:VTIMEZONE
BEGIN:VEVENT
DTSTART;TZID=Europe/Berlin:20260425T110000
DTEND;TZID=Europe/Berlin:20260425T120000
DTSTAMP:20260421T064056
CREATED:20240323T145003Z
LAST-MODIFIED:20260211T101416Z
UID:9732-1777114800-1777118400@shanty-nordhorn.de
SUMMARY:Holschenmarkt
DESCRIPTION:Eröffnung des Holschenmarktes vor dem Restaurant Frentjen
URL:https://shanty-nordhorn.de/termine/holschenmarkt-3/
LOCATION:Frentjen\, Hauptstr. 50\, Nordhorn\, Niedersachsen\, 48529
END:VEVENT
BEGIN:VEVENT
DTSTART;TZID=Europe/Berlin:20260517T150000
DTEND;TZID=Europe/Berlin:20260517T170000
DTSTAMP:20260421T064056
CREATED:20260309T185248Z
LAST-MODIFIED:20260309T185248Z
UID:9945-1779030000-1779037200@shanty-nordhorn.de
SUMMARY:Haus St. Marien
DESCRIPTION:Konzert zur Kaffeezeit
URL:https://shanty-nordhorn.de/termine/haus-st-marien/
LOCATION:Haus St. Marien\, Hannoverstr.5\, Nordhorn\, 48529
END:VEVENT
BEGIN:VEVENT
DTSTART;TZID=Europe/Berlin:20260531T153000
DTEND;TZID=Europe/Berlin:20260531T163000
DTSTAMP:20260421T064056
CREATED:20260128T101726Z
LAST-MODIFIED:20260128T101726Z
UID:9915-1780241400-1780245000@shanty-nordhorn.de
SUMMARY:Emder Matjestage
DESCRIPTION:Der Auftritt findet auf der Hauptbühne am Hafentor statt.
URL:https://shanty-nordhorn.de/termine/emder-matjestage/
LOCATION:Emden\, Emden\, 26721
END:VEVENT
BEGIN:VEVENT
DTSTART;TZID=Europe/Berlin:20260607T110000
DTEND;TZID=Europe/Berlin:20260607T130000
DTSTAMP:20260421T064056
CREATED:20260127T094503Z
LAST-MODIFIED:20260127T094503Z
UID:9904-1780830000-1780837200@shanty-nordhorn.de
SUMMARY:Hafenkonzert
DESCRIPTION:
URL:https://shanty-nordhorn.de/termine/hafenkonzert/
LOCATION:Neuharlingersiel\, Neuharlingersiel
END:VEVENT
BEGIN:VEVENT
DTSTART;TZID=Europe/Berlin:20260626T150000
DTEND;TZID=Europe/Berlin:20260626T170000
DTSTAMP:20260421T064056
CREATED:20260211T102005Z
LAST-MODIFIED:20260211T105233Z
UID:9926-1782486000-1782493200@shanty-nordhorn.de
SUMMARY:Sommerfest Diakonischer Dienst
DESCRIPTION:Der Shantychor hat auf dem Sommerfest im " Pflegezentrum Gildehaus" zwei Auftritte.
URL:https://shanty-nordhorn.de/termine/sommerfest-diakonischer-dienst/
LOCATION:Diakonischer Dienst\, Dillenweg 18b\, Bad Bentheim\, Niedersachsen\, 48455
END:VEVENT
BEGIN:VEVENT
DTSTART;TZID=Europe/Berlin:20260627T113000
DTEND;TZID=Europe/Berlin:20260627T170000
DTSTAMP:20260421T064056
CREATED:20260204T190531Z
LAST-MODIFIED:20260204T190531Z
UID:9920-1782559800-1782579600@shanty-nordhorn.de
SUMMARY:Shantyfestival Borne Nl
DESCRIPTION:Ein Festival mit vier Chören
URL:https://shanty-nordhorn.de/termine/shantyfestival-borne-nl/
LOCATION:Dorsetplein in der Mitte von Borne\, Borne NL\, Niederlande
END:VEVENT
BEGIN:VEVENT
DTSTART;TZID=Europe/Berlin:20260726T150000
DTEND;TZID=Europe/Berlin:20260726T170000
DTSTAMP:20260421T064056
CREATED:20241126T125404Z
LAST-MODIFIED:20260203T150644Z
UID:9805-1785078000-1785085200@shanty-nordhorn.de
SUMMARY:Konzertmuschel Kurpark
DESCRIPTION:
URL:https://shanty-nordhorn.de/termine/konzertmuschel-kurpark/
LOCATION:Kurpark Bad Bentheim\, Bad Bentheim
END:VEVENT
BEGIN:VEVENT
DTSTART;TZID=Europe/Berlin:20260815T143000
DTEND;TZID=Europe/Berlin:20260815T163000
DTSTAMP:20260421T064056
CREATED:20260313T125752Z
LAST-MODIFIED:20260313T125752Z
UID:9960-1786804200-1786811400@shanty-nordhorn.de
SUMMARY:Gerardus Majella Pfelgezentrum
DESCRIPTION:Geseliges Kaffeekonzert mit dem Shanty-Chor
URL:https://shanty-nordhorn.de/termine/gerardus-majella-pfelgezentrum/
LOCATION:Gerardus Majella\, Berghumerstraat 15\, 7591 Denekamp GX\, Niederlande
END:VEVENT
BEGIN:VEVENT
DTSTART;TZID=Europe/Berlin:20261206T150000
DTEND;TZID=Europe/Berlin:20261206T173000
DTSTAMP:20260421T064056
CREATED:20260310T130544Z
LAST-MODIFIED:20260310T130544Z
UID:9948-1796569200-1796578200@shanty-nordhorn.de
SUMMARY:Adventskonzert
DESCRIPTION:"Advent auf See und im Hafen"
URL:https://shanty-nordhorn.de/termine/adventskonzert-2/
LOCATION:Landgasthaus Schepers-Niermann\, Alte Landst. 22\, Gildehaus\, 48455\, Deutschland
END:VEVENT
END:VCALENDAR